BEGIN:VCALENDAR
VERSION:2.0
PRODID:-//AfD Kreisverband Anhalt-Bitterfeld - ECPv6.15.20//NONSGML v1.0//EN
CALSCALE:GREGORIAN
METHOD:PUBLISH
X-ORIGINAL-URL:https://afd-anhalt-bitterfeld.de
X-WR-CALDESC:Veranstaltungen für AfD Kreisverband Anhalt-Bitterfeld
REFRESH-INTERVAL;VALUE=DURATION:PT1H
X-Robots-Tag:noindex
X-PUBLISHED-TTL:PT1H
BEGIN:VTIMEZONE
TZID:Europe/Berlin
BEGIN:DAYLIGHT
TZOFFSETFROM:+0100
TZOFFSETTO:+0200
TZNAME:CEST
DTSTART:20200329T010000
END:DAYLIGHT
BEGIN:STANDARD
TZOFFSETFROM:+0200
TZOFFSETTO:+0100
TZNAME:CET
DTSTART:20201025T010000
END:STANDARD
BEGIN:DAYLIGHT
TZOFFSETFROM:+0100
TZOFFSETTO:+0200
TZNAME:CEST
DTSTART:20210328T010000
END:DAYLIGHT
BEGIN:STANDARD
TZOFFSETFROM:+0200
TZOFFSETTO:+0100
TZNAME:CET
DTSTART:20211031T010000
END:STANDARD
BEGIN:DAYLIGHT
TZOFFSETFROM:+0100
TZOFFSETTO:+0200
TZNAME:CEST
DTSTART:20220327T010000
END:DAYLIGHT
BEGIN:STANDARD
TZOFFSETFROM:+0200
TZOFFSETTO:+0100
TZNAME:CET
DTSTART:20221030T010000
END:STANDARD
END:VTIMEZONE
BEGIN:VEVENT
DTSTART;TZID=Europe/Berlin:20210528T180000
DTEND;TZID=Europe/Berlin:20210528T200000
DTSTAMP:20260423T172250
CREATED:20210527T165319Z
LAST-MODIFIED:20210527T165452Z
UID:13972-1622224800-1622232000@afd-anhalt-bitterfeld.de
SUMMARY:Kundgebung mit EU-Abgeordneten Maximilian Krah in Köthen.
DESCRIPTION:Wahlkampf-Kundgebung mit EU-Abgeordneten Maximilian Krah in Köthen. \nDie AfD in Köthen lädt Sie ein zur Kundgebung mit Europaabgeordneten Maximilian Krah\, MdL Daniel Roi\, MdL Hannes Loth und Landratskandidat Volker Olenicak. \nWo: Köthen\, Marktplatz.\nWann: Beginn 18:00 Uhr. \nSprechen Sie uns mit Fragen\, Anregungen und auch Kritik an.\nWir stehe Rede und Antwort.\nImmer. Nicht nur vor Wahlen. \nHerzlich willkommen!
URL:https://afd-anhalt-bitterfeld.de/veranstaltung/kundgebung-mit-eu-abgeordneten-maximilian-krah-in-koethen/
LOCATION:Köthen Marktplatz\, Marktplatz\, Köthen\, Sachsen-Anhalt\, 06366\, Deutschland
CATEGORIES:Kundgebungen,Öffentliche Veranstaltung
ATTACH;FMTTYPE=image/jpeg:https://afd-anhalt-bitterfeld.de/wp-content/uploads/2021/05/AfD.Koethen.jpg
END:VEVENT
END:VCALENDAR