BEGIN:VCALENDAR
VERSION:2.0
PRODID:-//AfD Kreisverband Anhalt-Bitterfeld - ECPv6.15.20//NONSGML v1.0//EN
CALSCALE:GREGORIAN
METHOD:PUBLISH
X-WR-CALNAME:AfD Kreisverband Anhalt-Bitterfeld
X-ORIGINAL-URL:https://afd-anhalt-bitterfeld.de
X-WR-CALDESC:Veranstaltungen für AfD Kreisverband Anhalt-Bitterfeld
REFRESH-INTERVAL;VALUE=DURATION:PT1H
X-Robots-Tag:noindex
X-PUBLISHED-TTL:PT1H
BEGIN:VTIMEZONE
TZID:Europe/Berlin
BEGIN:DAYLIGHT
TZOFFSETFROM:+0100
TZOFFSETTO:+0200
TZNAME:CEST
DTSTART:20220327T010000
END:DAYLIGHT
BEGIN:STANDARD
TZOFFSETFROM:+0200
TZOFFSETTO:+0100
TZNAME:CET
DTSTART:20221030T010000
END:STANDARD
BEGIN:DAYLIGHT
TZOFFSETFROM:+0100
TZOFFSETTO:+0200
TZNAME:CEST
DTSTART:20230326T010000
END:DAYLIGHT
BEGIN:STANDARD
TZOFFSETFROM:+0200
TZOFFSETTO:+0100
TZNAME:CET
DTSTART:20231029T010000
END:STANDARD
BEGIN:DAYLIGHT
TZOFFSETFROM:+0100
TZOFFSETTO:+0200
TZNAME:CEST
DTSTART:20240331T010000
END:DAYLIGHT
BEGIN:STANDARD
TZOFFSETFROM:+0200
TZOFFSETTO:+0100
TZNAME:CET
DTSTART:20241027T010000
END:STANDARD
END:VTIMEZONE
BEGIN:VEVENT
DTSTART;TZID=Europe/Berlin:20230306T180000
DTEND;TZID=Europe/Berlin:20230306T200000
DTSTAMP:20260426T001823
CREATED:20230301T212258Z
LAST-MODIFIED:20230305T212554Z
UID:14743-1678125600-1678132800@afd-anhalt-bitterfeld.de
SUMMARY:Stoppt die Kriegstreiber - Diplomaten statt Granaten - Für Frieden\, Freiheit und soziale Gerechtigkeit!
DESCRIPTION:Wir spazieren weiter für Frieden\, Freiheit\, Wohlstand und soziale Gerechtigkeit! \nDer Krieg in der Ukraine wird durch immer mehr Waffenlieferungen immer weiter eskaliert.\nDie Bundesregierung zieht unser Land verantwortungslos in einen Krieg\, der nicht unserer ist.\nWir zahlen bereits jetzt Milliarden für einen geostrategischen Stellvertreterkrieg zwischen USA und Russland. Zum Schaden von Millionen Menschen in ganz Europa. Es sterben unzählige Menschen in der Ukraine. In Europa leidet die Bevölkerung und die Wirtschaft unter den Folgen dieses sinnlosen Wirtschaftskrieges. \nWir sagen: STOPPT DIESEN WAHNSINN! \nDieser Krieg hat viele Väter.\nDieser Krieg wird nicht OHNE Verhandlungen über den Status der Ukraine enden.\nWer von einem Sieg über Russland schwadroniert\, der verkennt die Realitäten.\nDie Mehrheit der Deutschen will keine weiteren schweren Waffen in Kriegsgebiete!\nEs MUSS verhandelt werden und das im Sinne der Menschen in Europa!\nWir Deutschen wollen diesen Krieg nicht! \nProtestiert mit uns auf der Straße!\nWIR können nicht weiter zusehen\, wie einige US-hörige Kriegstreiber in Berlin uns an den Rand des 3. Weltkrieges führen. WIR wollen FRIEDEN\, FREIHEIT und WOHLSTAND! \nWir sehen uns am 6. Februar um 18:00 Uhr auf dem Marktplatz in Bitterfeld. \nAnschliessende Kundgebung mit unserem Gast MdB Carolin Bachmann sowie MdB Kay-Uwe Ziegler und MdL Daniel Roi. \nDIE ROTE LINIE SIND WIR! \nVeranstaltungszeiten \nBeginn: 18:00 Uhr \nSpaziergang: 18:20 Uhr \nKundgebung: ca. 19:00 Uhr \nEnde: 20:00 Uhr
URL:https://afd-anhalt-bitterfeld.de/veranstaltung/stoppt-die-kriegstreiber-spaziergang-und-kundgebung-in-bitterfeld-marktplatz/
LOCATION:Bitterfeld Marktplatz\, Markt\, Bitterfeld\, Sachsen-Anhalt\, 06749\, Deutschland
CATEGORIES:Demonstrationen,Kundgebungen,Öffentliche Veranstaltung,Presseeinladungen
ATTACH;FMTTYPE=image/jpeg:https://afd-anhalt-bitterfeld.de/wp-content/uploads/2023/02/IMG-20230220-WA0005.jpg
END:VEVENT
END:VCALENDAR