BEGIN:VCALENDAR
VERSION:2.0
PRODID:-//AfD Kreisverband Anhalt-Bitterfeld - ECPv6.15.20//NONSGML v1.0//EN
CALSCALE:GREGORIAN
METHOD:PUBLISH
X-ORIGINAL-URL:https://afd-anhalt-bitterfeld.de
X-WR-CALDESC:Veranstaltungen für AfD Kreisverband Anhalt-Bitterfeld
REFRESH-INTERVAL;VALUE=DURATION:PT1H
X-Robots-Tag:noindex
X-PUBLISHED-TTL:PT1H
BEGIN:VTIMEZONE
TZID:Europe/Berlin
BEGIN:DAYLIGHT
TZOFFSETFROM:+0100
TZOFFSETTO:+0200
TZNAME:CEST
DTSTART:20210328T010000
END:DAYLIGHT
BEGIN:STANDARD
TZOFFSETFROM:+0200
TZOFFSETTO:+0100
TZNAME:CET
DTSTART:20211031T010000
END:STANDARD
BEGIN:DAYLIGHT
TZOFFSETFROM:+0100
TZOFFSETTO:+0200
TZNAME:CEST
DTSTART:20220327T010000
END:DAYLIGHT
BEGIN:STANDARD
TZOFFSETFROM:+0200
TZOFFSETTO:+0100
TZNAME:CET
DTSTART:20221030T010000
END:STANDARD
BEGIN:DAYLIGHT
TZOFFSETFROM:+0100
TZOFFSETTO:+0200
TZNAME:CEST
DTSTART:20230326T010000
END:DAYLIGHT
BEGIN:STANDARD
TZOFFSETFROM:+0200
TZOFFSETTO:+0100
TZNAME:CET
DTSTART:20231029T010000
END:STANDARD
END:VTIMEZONE
BEGIN:VEVENT
DTSTART;TZID=Europe/Berlin:20220411T170000
DTEND;TZID=Europe/Berlin:20220411T200000
DTSTAMP:20260425T034313
CREATED:20220408T174451Z
LAST-MODIFIED:20220408T175906Z
UID:14419-1649696400-1649707200@afd-anhalt-bitterfeld.de
SUMMARY:SPAZIERGANG FÜR FRIEDEN UND FREIHEIT - Weg mit der einrichtungsbezogenen Impfpflicht!
DESCRIPTION:ES IST GESCHAFFT – DIE IMPFPFLICHT AB 60 IST GESCHEITERT. \nZumindest vorerst wird es keine allgemeine Impfpflicht geben.\nAlle dazu eingereichten Anträge im Deutschen Bundestag bekamen keine Mehrheit.\nLeider verfehlte der Antrag der AfD auf Abschaffung der einrichtungsbezogenen Impfpflicht die Mehrheit.\nDeshalb wollen wir wieder ein Zeichen setzen! \nSolidarität mit den Beschäftigten in den Gesundheitsberufen!\nWir wollen\, dass auch die Impfpflicht für diese Betroffenen gekippt wird.\nAllein in Baden-Württemberg sind 32.000 Ungeimpfte in medizinischen Berufen enormen Druck ausgesetzt.\nIn Anhalt-Bitterfeld schätzt man 1500 – 2000 Betroffene.\nWir lassen diese Menschen nicht im Stich und kämpfen weiter! \nDeshalb Großer Spaziergang vor der Osterruhe.\nKommt am Montag alle nach Bitterfeld!\nWir sind bereits ab 17:00 Uhr vor Ort und haben einen Grillstand aufgebaut.\nZur Feier des Tages gibt es Bratwurst ohne Impfung! \nWir spazieren normal ab 18:30 Uhr und halten gegen 19:00 Uhr unsere Kundgebung ab.\nZu Gast ist diesmal Dr. Christoph Berndt aus Brandenburg.\nEr ist Gründer von „Zukunft Heimat“ und hat die Proteste in Cottbus ins Leben gerufen. \nWir sehen uns am Montag in Bitterfeld! \n ©
URL:https://afd-anhalt-bitterfeld.de/veranstaltung/spaziergang-fuer-frieden-und-freiheit-weg-mit-der-einrichtungsbezogenen-impfpflicht/
LOCATION:Bitterfeld Marktplatz\, Markt\, Bitterfeld\, Sachsen-Anhalt\, 06749\, Deutschland
CATEGORIES:Demonstrationen,Kundgebungen,Öffentliche Veranstaltung
ATTACH;FMTTYPE=image/jpeg:https://afd-anhalt-bitterfeld.de/wp-content/uploads/2022/04/Bildschirmfoto-2022-04-08-um-19.29.33.jpg
ORGANIZER;CN="AfD Kreisverband Anhalt-Bitterfeld":MAILTO:abi@afd-lsa.de
END:VEVENT
END:VCALENDAR