BEGIN:VCALENDAR
VERSION:2.0
PRODID:-//AfD Kreisverband Anhalt-Bitterfeld - ECPv6.15.20//NONSGML v1.0//EN
CALSCALE:GREGORIAN
METHOD:PUBLISH
X-ORIGINAL-URL:https://afd-anhalt-bitterfeld.de
X-WR-CALDESC:Veranstaltungen für AfD Kreisverband Anhalt-Bitterfeld
REFRESH-INTERVAL;VALUE=DURATION:PT1H
X-Robots-Tag:noindex
X-PUBLISHED-TTL:PT1H
BEGIN:VTIMEZONE
TZID:Europe/Berlin
BEGIN:DAYLIGHT
TZOFFSETFROM:+0100
TZOFFSETTO:+0200
TZNAME:CEST
DTSTART:20220327T010000
END:DAYLIGHT
BEGIN:STANDARD
TZOFFSETFROM:+0200
TZOFFSETTO:+0100
TZNAME:CET
DTSTART:20221030T010000
END:STANDARD
BEGIN:DAYLIGHT
TZOFFSETFROM:+0100
TZOFFSETTO:+0200
TZNAME:CEST
DTSTART:20230326T010000
END:DAYLIGHT
BEGIN:STANDARD
TZOFFSETFROM:+0200
TZOFFSETTO:+0100
TZNAME:CET
DTSTART:20231029T010000
END:STANDARD
BEGIN:DAYLIGHT
TZOFFSETFROM:+0100
TZOFFSETTO:+0200
TZNAME:CEST
DTSTART:20240331T010000
END:DAYLIGHT
BEGIN:STANDARD
TZOFFSETFROM:+0200
TZOFFSETTO:+0100
TZNAME:CET
DTSTART:20241027T010000
END:STANDARD
END:VTIMEZONE
BEGIN:VEVENT
DTSTART;TZID=Europe/Berlin:20230630T180000
DTEND;TZID=Europe/Berlin:20230630T200000
DTSTAMP:20260423T110816
CREATED:20230626T214924Z
LAST-MODIFIED:20230626T214924Z
UID:14853-1688148000-1688155200@afd-anhalt-bitterfeld.de
SUMMARY:Wahlkampf-Endspurt in Raguhn und Jeßnitz
DESCRIPTION:Unser Wahlkampf-Endspurt am Freitag und Samstag in Raguhn-Jeßnitz!\nMit dem 1. AfD-Landrat Deutschlands Robert Sesselmann (Sonneberg)\, unserem AfD-Landesvorsitzenden Martin Reichardt\, unserem direkt gewählten Bundestagsabgeordneten Kay-Uwe Ziegler MdB\, unserem Kreisvorsitzenden Daniel Roi und Estéban Cortez mit Live- Musik in #Raguhn auf dem Marktplatz! \n\n\n\nIn Raguhn-Jeßnitz sind wir in der Bürgermeisterwahl mit Hannes Loth\, durch ein sensationelles Ergebnis von 40\,7% in der Stichwahl\, die am kommenden Sonntag stattfindet. \n\n\n\nAm Samstag wird unser Bundesvorsitzender Tino Chrupalla bei uns in Jeßnitz von 13-14:00 Uhr am Alten Markt am AfD-Infostand sein. \nWir sehen uns\, und wir schaffen das!
URL:https://afd-anhalt-bitterfeld.de/veranstaltung/wahlkampf-endspurt-in-raguhn-und-jessnitz/
LOCATION:Raguhn Marktplatz\, Martplatz\, Raguhn\, Sachsen-Anhalt\, 06779\, Deutschland
CATEGORIES:Kundgebungen,Öffentliche Veranstaltung
ATTACH;FMTTYPE=image/jpeg:https://afd-anhalt-bitterfeld.de/wp-content/uploads/2023/06/WahlkampfEndspurtHannesLoth.jpg
ORGANIZER;CN="AfD Kreisverband Anhalt-Bitterfeld":MAILTO:abi@afd-lsa.de
END:VEVENT
END:VCALENDAR