BEGIN:VCALENDAR
VERSION:2.0
PRODID:-//AfD Kreisverband Anhalt-Bitterfeld - ECPv6.15.20//NONSGML v1.0//EN
CALSCALE:GREGORIAN
METHOD:PUBLISH
X-ORIGINAL-URL:https://afd-anhalt-bitterfeld.de
X-WR-CALDESC:Veranstaltungen für AfD Kreisverband Anhalt-Bitterfeld
REFRESH-INTERVAL;VALUE=DURATION:PT1H
X-Robots-Tag:noindex
X-PUBLISHED-TTL:PT1H
BEGIN:VTIMEZONE
TZID:Europe/Berlin
BEGIN:DAYLIGHT
TZOFFSETFROM:+0100
TZOFFSETTO:+0200
TZNAME:CEST
DTSTART:20180325T010000
END:DAYLIGHT
BEGIN:STANDARD
TZOFFSETFROM:+0200
TZOFFSETTO:+0100
TZNAME:CET
DTSTART:20181028T010000
END:STANDARD
BEGIN:DAYLIGHT
TZOFFSETFROM:+0100
TZOFFSETTO:+0200
TZNAME:CEST
DTSTART:20190331T010000
END:DAYLIGHT
BEGIN:STANDARD
TZOFFSETFROM:+0200
TZOFFSETTO:+0100
TZNAME:CET
DTSTART:20191027T010000
END:STANDARD
BEGIN:DAYLIGHT
TZOFFSETFROM:+0100
TZOFFSETTO:+0200
TZNAME:CEST
DTSTART:20200329T010000
END:DAYLIGHT
BEGIN:STANDARD
TZOFFSETFROM:+0200
TZOFFSETTO:+0100
TZNAME:CET
DTSTART:20201025T010000
END:STANDARD
END:VTIMEZONE
BEGIN:VEVENT
DTSTART;TZID=Europe/Berlin:20190510T190000
DTEND;TZID=Europe/Berlin:20190510T210000
DTSTAMP:20260424T225852
CREATED:20190506T144411Z
LAST-MODIFIED:20190506T144411Z
UID:13477-1557514800-1557522000@afd-anhalt-bitterfeld.de
SUMMARY:Bürger-Stammtisch mit MdB Norbert Kleinwächter in Wolfen
DESCRIPTION:Am Freitag\, den 10. Mai um 19:00 Uhr sind wir zu Gast im Ristorante „San Lorenzo“ in Wolfen\, am Rathausplatz 3. \nAls Gastredner haben wir den Bundestagsabgeordneten Herrn Norbert Kleinwächter aus Brandenburg eingeladen.\nEr wird über die Arbeit und Ziele der AfD-Fraktion im Bundestag und über Rentenkonzepte der AfD Auskunft geben. \nWie immer gibt es danach Neuigkeiten aus Stadtrat\, Kreistag und Landtag von unseren Mandatsträgern und Mitgliedern.\nUnter anderem unser Kreisvorsitzender und Mitglied des Landtages Sachsen-Anhalt\, Daniel Roi wird Sie informieren.\nIm Anschluss folgt eine offene Diskussion über politische Themen unserer Region. \nMit ihrer Meinung\, ihrer Kritik oder ihren Anregungen sind Sie bei uns richtig!\nHerzlich willkommen! \nhttp://norbert-kleinwaechter.de/\nhttps://www.bundestag.de/abgeordnete/biografien/K/-/521050
URL:https://afd-anhalt-bitterfeld.de/veranstaltung/buerger-stammtisch-mit-mdb-norbert-kleinwaechter-in-wolfen/
LOCATION:Restaurant San Lorenzo\, Rathauspl. 3\, Bitterfeld-Wolfen OT Wolfen\, Sachsen-Anhalt\, 06766\, Deutschland
CATEGORIES:Bürgerstammtisch
ATTACH;FMTTYPE=image/jpeg:https://afd-anhalt-bitterfeld.de/wp-content/uploads/2019/05/kleinwaechter_norbert_gross.jpg
END:VEVENT
END:VCALENDAR