BEGIN:VCALENDAR
VERSION:2.0
PRODID:-//AfD Kreisverband Anhalt-Bitterfeld - ECPv6.15.20//NONSGML v1.0//EN
CALSCALE:GREGORIAN
METHOD:PUBLISH
X-WR-CALNAME:AfD Kreisverband Anhalt-Bitterfeld
X-ORIGINAL-URL:https://afd-anhalt-bitterfeld.de
X-WR-CALDESC:Veranstaltungen für AfD Kreisverband Anhalt-Bitterfeld
REFRESH-INTERVAL;VALUE=DURATION:PT1H
X-Robots-Tag:noindex
X-PUBLISHED-TTL:PT1H
BEGIN:VTIMEZONE
TZID:Europe/Berlin
BEGIN:DAYLIGHT
TZOFFSETFROM:+0100
TZOFFSETTO:+0200
TZNAME:CEST
DTSTART:20210328T010000
END:DAYLIGHT
BEGIN:STANDARD
TZOFFSETFROM:+0200
TZOFFSETTO:+0100
TZNAME:CET
DTSTART:20211031T010000
END:STANDARD
BEGIN:DAYLIGHT
TZOFFSETFROM:+0100
TZOFFSETTO:+0200
TZNAME:CEST
DTSTART:20220327T010000
END:DAYLIGHT
BEGIN:STANDARD
TZOFFSETFROM:+0200
TZOFFSETTO:+0100
TZNAME:CET
DTSTART:20221030T010000
END:STANDARD
BEGIN:DAYLIGHT
TZOFFSETFROM:+0100
TZOFFSETTO:+0200
TZNAME:CEST
DTSTART:20230326T010000
END:DAYLIGHT
BEGIN:STANDARD
TZOFFSETFROM:+0200
TZOFFSETTO:+0100
TZNAME:CET
DTSTART:20231029T010000
END:STANDARD
END:VTIMEZONE
BEGIN:VEVENT
DTSTART;TZID=Europe/Berlin:20220328T180000
DTEND;TZID=Europe/Berlin:20220328T200000
DTSTAMP:20260420T180054
CREATED:20220327T202813Z
LAST-MODIFIED:20220327T211241Z
UID:14401-1648490400-1648497600@afd-anhalt-bitterfeld.de
SUMMARY:SPAZIERGANG FÜR FRIEDEN UND FREIHEIT - Nein zur Impfpflicht - Stoppt die soziale Spaltung!
DESCRIPTION:Wir spazieren weiter!\nFür Frieden und Freiheit!\nGegen Impfdruck und soziale Spaltung!\n\nLauterbach wirbt bereits für die vierte Impfung!\nDer Deutsche Bundestag debattiert entsprechende Gesetzentwürfe zur allgemeinen Impfpflicht.\nDie Betroffenen in dem Gesundheitsberufen sind mit der einrichtungsbezogenen Impfpflicht konfrontiert.\nDas alles ist mittlerweile eine unerträgliche Farce!\nDie Wahrheit wird sich durchsetzen\, wenn wir nicht schweigen!\nWir lassen uns nicht spalten und spazieren weiter für unsere Freiheit und unsere Selbstbestimmung!\nNein zur Impfpflicht!\n\nWir sehen uns Montag ab 18:00 Uhr auf dem Marktplatz in Bitterfeld!
URL:https://afd-anhalt-bitterfeld.de/veranstaltung/spaziergang-fuer-frieden-und-freiheit-nein-zur-impfpflicht-stoppt-die-soziale-spaltung/
LOCATION:Bitterfeld Marktplatz\, Markt\, Bitterfeld\, Sachsen-Anhalt\, 06749\, Deutschland
CATEGORIES:Demonstrationen,Kundgebungen,Öffentliche Veranstaltung
ATTACH;FMTTYPE=image/jpeg:https://afd-anhalt-bitterfeld.de/wp-content/uploads/2022/03/Bildschirmfoto-2022-03-27-um-22.24.34.jpg
ORGANIZER;CN="AfD Kreisverband Anhalt-Bitterfeld":MAILTO:abi@afd-lsa.de
END:VEVENT
END:VCALENDAR